BEGIN:VCALENDAR
VERSION:2.0
PRODID:-//Squarespace Inc/Squarespace 6//v6//EN
BEGIN:VEVENT
UID:5b60dd73562fa7ec2ec1ae3f@squarespace.com
DTSTAMP:20190430T025322Z
DTSTART:20180502T223000Z
DTEND:20180524T003000Z
SUMMARY:TRIPLE P - Positive Parenting Program
END:VEVENT
END:VCALENDAR
