BEGIN:VCALENDAR
VERSION:2.0
PRODID:-//Squarespace Inc/Squarespace 6//v6//EN
BEGIN:VEVENT
UID:5c7c4fb36e9a7f0c98f46c7b@squarespace.com
DTSTAMP:20190303T222503Z
DTSTART:20190303T223000Z
DTEND:20191213T233000Z
SUMMARY:House of Science
END:VEVENT
END:VCALENDAR
