BEGIN:VCALENDAR
VERSION:2.0
PRODID:-//Squarespace Inc/Squarespace 6//v6//EN
BEGIN:VEVENT
UID:5c60ac13eb39311832fbd460@squarespace.com
DTSTAMP:20190503T000415Z
DTSTART:20190215T143000Z
DTEND:20190725T163000Z
SUMMARY:Opotiki Beginners computers
END:VEVENT
END:VCALENDAR
