BEGIN:VCALENDAR
VERSION:2.0
PRODID:-//Squarespace Inc/Squarespace 6//v6//EN
BEGIN:VEVENT
UID:5c60a6a00d929794cf5a3f13@squarespace.com
DTSTAMP:20190503T000455Z
DTSTART:20190214T140000Z
DTEND:20190725T180000Z
SUMMARY:Learner licence
END:VEVENT
END:VCALENDAR
