BEGIN:VCALENDAR
VERSION:2.0
PRODID:-//Squarespace Inc/Squarespace 6//v6//EN
BEGIN:VEVENT
UID:5c60a54e53450a883a25d06e@squarespace.com
DTSTAMP:20190430T032517Z
DTSTART:20190502T223000Z
DTEND:20190524T003000Z
SUMMARY:Triple -P  Program
END:VEVENT
END:VCALENDAR
