BEGIN:VCALENDAR
VERSION:2.0
PRODID:-//Squarespace Inc/Squarespace 6//v6//EN
BEGIN:VEVENT
UID:5c60ad9f9140b743f647b49f@squarespace.com
DTSTAMP:20190210T230451Z
DTSTART:20190210T233000Z
DTEND:20190211T003000Z
SUMMARY:Triple P Program - Hassle-Free Shopping and Outings
END:VEVENT
END:VCALENDAR
