BEGIN:VCALENDAR
VERSION:2.0
PRODID:-//Squarespace Inc/Squarespace 6//v6//EN
BEGIN:VEVENT
UID:5c60a73ae2c483879c7bbaab@squarespace.com
DTSTAMP:20190503T000307Z
DTSTART:20190225T140000Z
DTEND:20190725T170000Z
SUMMARY:Driver Support - Restricted and Full Licence
END:VEVENT
END:VCALENDAR
