BEGIN:VCALENDAR
VERSION:2.0
PRODID:-//Squarespace Inc/Squarespace 6//v6//EN
BEGIN:VEVENT
UID:5b70ff01f950b71d4a734a39@squarespace.com
DTSTAMP:20180813T041248Z
DTSTART:20180905T193000Z
DTEND:20180906T010000Z
SUMMARY:Mind over manner
GEO:-37.961494;176.970551
LOCATION:Whakatane Intermediate School\, 101 James Street\, Whakatane\, Bay 
 Of Plenty\, 3120\, New Zealand
END:VEVENT
END:VCALENDAR
