BEGIN:VCALENDAR
VERSION:2.0
PRODID:-//Squarespace Inc/Squarespace 6//v6//EN
BEGIN:VEVENT
UID:5b68b48570a6add62bfdd76b@squarespace.com
DTSTAMP:20180807T024824Z
DTSTART:20180809T190300Z
DTEND:20181011T213000Z
SUMMARY:Digi Dub 3 D Thursdays
END:VEVENT
END:VCALENDAR
