BEGIN:VCALENDAR
VERSION:2.0
PRODID:-//Squarespace Inc/Squarespace 6//v6//EN
BEGIN:VEVENT
UID:5b68b12d88251b17e7667618@squarespace.com
DTSTAMP:20180807T003745Z
DTSTART:20180807T193000Z
DTEND:20181009T193000Z
SUMMARY:Digi Dub Sketch
END:VEVENT
END:VCALENDAR
