BEGIN:VCALENDAR
VERSION:2.0
PRODID:-//Squarespace Inc/Squarespace 6//v6//EN
BEGIN:VEVENT
UID:5b6123c2562fa752f4df66a6@squarespace.com
DTSTAMP:20180801T031027Z
DTSTART:20180801T033000Z
DTEND:20180928T043000Z
SUMMARY:Whakatane Playgroup
END:VEVENT
END:VCALENDAR
