BEGIN:VCALENDAR
VERSION:2.0
PRODID:-//Squarespace Inc/Squarespace 6//v6//EN
BEGIN:VEVENT
UID:5b60f46a8a922d42f4f16776@squarespace.com
DTSTAMP:20181005T001503Z
DTSTART:20180801T000000Z
DTEND:20181214T230000Z
SUMMARY:Whakatane Courses
END:VEVENT
END:VCALENDAR
