BEGIN:VCALENDAR
VERSION:2.0
PRODID:-//Squarespace Inc/Squarespace 6//v6//EN
BEGIN:VEVENT
UID:5b60f24570a6ad7c368b0ac0@squarespace.com
DTSTAMP:20180806T203323Z
DTSTART:20180801T000000Z
DTEND:20180927T000000Z
SUMMARY:DOTS
END:VEVENT
END:VCALENDAR
