BEGIN:VCALENDAR
VERSION:2.0
PRODID:-//Squarespace Inc/Squarespace 6//v6//EN
BEGIN:VEVENT
UID:5b6111a3758d4614bdaeb8d7@squarespace.com
DTSTAMP:20180801T022226Z
DTSTART:20180801T020000Z
DTEND:20181027T020000Z
SUMMARY:Commercial Transport
END:VEVENT
END:VCALENDAR
