BEGIN:VCALENDAR
VERSION:2.0
PRODID:-//Squarespace Inc/Squarespace 6//v6//EN
BEGIN:VEVENT
UID:5b60dff50e2e727f6501e090@squarespace.com
DTSTAMP:20180801T013705Z
DTSTART:20180731T223000Z
DTEND:20181013T223000Z
SUMMARY:Body Language
END:VEVENT
END:VCALENDAR
