BEGIN:VCALENDAR
VERSION:2.0
PRODID:-//Squarespace Inc/Squarespace 6//v6//EN
BEGIN:VEVENT
UID:5b6112e470a6adeaf2a7a65b@squarespace.com
DTSTAMP:20181005T001314Z
DTSTART:20180801T020000Z
DTEND:20181215T010000Z
SUMMARY:Opotiki Courses
END:VEVENT
END:VCALENDAR
