BEGIN:VCALENDAR
VERSION:2.0
PRODID:-//Squarespace Inc/Squarespace 6//v6//EN
BEGIN:VEVENT
UID:5bb6add7f9619a6e5c031b5f@squarespace.com
DTSTAMP:20181005T002559Z
DTSTART:20181018T000000Z
DTEND:20181018T010000Z
SUMMARY:First Aid Training
END:VEVENT
END:VCALENDAR
