BEGIN:VCALENDAR
VERSION:2.0
PRODID:-//Squarespace Inc/Squarespace 6//v6//EN
BEGIN:VEVENT
UID:5b70ecef562fa71f5e53d83c@squarespace.com
DTSTAMP:20180813T023821Z
DTSTART:20180906T023000Z
DTEND:20180906T033000Z
SUMMARY:Mind over manner
GEO:-37.96115;176.971056
LOCATION:whakatane Intermediate School\, 101 James Street\, Whakatane\, Bay 
 Of Plenty\, 3120\, New Zealand
END:VEVENT
END:VCALENDAR
