BEGIN:VCALENDAR
VERSION:2.0
PRODID:-//Squarespace Inc/Squarespace 6//v6//EN
BEGIN:VEVENT
UID:5ae233f2f950b7f195259d96@squarespace.com
DTSTAMP:20180426T202559Z
DTSTART:20180504T113000Z
DTEND:20180507T003000Z
SUMMARY:Eastbay REAP announces RedTide Climate Action Summit: Days 4-6  
END:VEVENT
END:VCALENDAR
