BEGIN:VCALENDAR
VERSION:2.0
PRODID:-//Squarespace Inc/Squarespace 6//v6//EN
BEGIN:VEVENT
UID:5afa2da61ae6cfbdcf9bdc59@squarespace.com
DTSTAMP:20180515T010244Z
DTSTART:20180522T130000Z
DTEND:20180522T190000Z
SUMMARY:Eastbay REAP (Schools) Presents Raising Acheivement LTD 
END:VEVENT
END:VCALENDAR
