BEGIN:VCALENDAR
VERSION:2.0
PRODID:-//Squarespace Inc/Squarespace 6//v6//EN
BEGIN:VEVENT
UID:5aefd8f4f950b763249b480a@squarespace.com
DTSTAMP:20181029T024407Z
DTSTART:20181016T193000Z
DTEND:20181103T213000Z
SUMMARY:Exciting news Eastbay REAP presents Digi Dub Opotiki 
END:VEVENT
END:VCALENDAR
