BEGIN:VCALENDAR
VERSION:2.0
PRODID:-//Squarespace Inc/Squarespace 6//v6//EN
BEGIN:VEVENT
UID:5aefdd7d562fa779ed0d12e7@squarespace.com
DTSTAMP:20180507T050526Z
DTSTART:20180515T193000Z
DTEND:20180703T213000Z
SUMMARY:Eastbay REAP announces Digi Dub Whakatane 
END:VEVENT
END:VCALENDAR
