BEGIN:VCALENDAR
VERSION:2.0
PRODID:-//Squarespace Inc/Squarespace 6//v6//EN
BEGIN:VEVENT
UID:5af125991ae6cf6e52cfab61@squarespace.com
DTSTAMP:20180508T042355Z
DTSTART:20180511T190000Z
DTEND:20180511T203000Z
SUMMARY:Eastbay REAP Presents Brainwave Early years last forever 
END:VEVENT
END:VCALENDAR
