BEGIN:VCALENDAR
VERSION:2.0
PRODID:-//Squarespace Inc/Squarespace 6//v6//EN
BEGIN:VEVENT
UID:5aa97b2cf9619a71f15dd10c@squarespace.com
DTSTAMP:20180314T194648Z
DTSTART:20180406T203000Z
DTEND:20180407T000000Z
SUMMARY:Exciting Event St Josephs School Gala King Street Whakatane 
END:VEVENT
END:VCALENDAR
