BEGIN:VCALENDAR
VERSION:2.0
PRODID:-//Squarespace Inc/Squarespace 6//v6//EN
BEGIN:VEVENT
UID:5ae662061ae6cfa83d609943@squarespace.com
DTSTAMP:20180430T002537Z
DTSTART:20180430T123000Z
DTEND:20180504T133000Z
SUMMARY:It's a Wrap Thank you to all who Participated 
END:VEVENT
END:VCALENDAR
