BEGIN:VCALENDAR
VERSION:2.0
PRODID:-//Squarespace Inc/Squarespace 6//v6//EN
BEGIN:VEVENT
UID:5ae10326562fa7162c1abc79@squarespace.com
DTSTAMP:20180425T224319Z
DTSTART:20180403T120000Z
DTEND:20180802T130000Z
SUMMARY:Mau Tonu e Kowhiri Maori Roll or General Roll 
END:VEVENT
END:VCALENDAR
