BEGIN:VCALENDAR
VERSION:2.0
PRODID:-//Squarespace Inc/Squarespace 6//v6//EN
BEGIN:VEVENT
UID:5ac533892b6a28a603e05f48@squarespace.com
DTSTAMP:20180405T010240Z
DTSTART:20180425T150000Z
DTEND:20180425T160000Z
SUMMARY:ANZAC Day Luncheon Hosted by Eastbay REAP Ace Learners 
END:VEVENT
END:VCALENDAR
