BEGIN:VCALENDAR
VERSION:2.0
PRODID:-//Squarespace Inc/Squarespace 6//v6//EN
BEGIN:VEVENT
UID:5abab65b88251b3d7c2ea6dc@squarespace.com
DTSTAMP:20180327T213933Z
DTSTART:20180411T003000Z
DTEND:20180411T090000Z
SUMMARY:Eastbay REAP (Schools) presents Cultivate your Career 
END:VEVENT
END:VCALENDAR
