BEGIN:VCALENDAR
VERSION:2.0
PRODID:-//Squarespace Inc/Squarespace 6//v6//EN
BEGIN:VEVENT
UID:5a77d00571c10bcbfb9efefd@squarespace.com
DTSTAMP:20180205T034253Z
DTSTART:20180308T140000Z
DTEND:20180310T210000Z
SUMMARY:Eastbay REAP Warmly invites you to Workshops with Pennie Brownlee i
 n Whakatane
END:VEVENT
END:VCALENDAR
