BEGIN:VCALENDAR
VERSION:2.0
PRODID:-//Squarespace Inc/Squarespace 6//v6//EN
BEGIN:VEVENT
UID:5a9709c18165f57d59c660e1@squarespace.com
DTSTAMP:20180228T200637Z
DTSTART:20180328T130000Z
DTEND:20180328T200000Z
SUMMARY:Education Council. Unpack the standards for the Teaching Profession 
 & Discuss the Code 
END:VEVENT
END:VCALENDAR
