BEGIN:VCALENDAR
VERSION:2.0
PRODID:-//Squarespace Inc/Squarespace 6//v6//EN
BEGIN:VEVENT
UID:5aa5ba5e085229361154a7eb@squarespace.com
DTSTAMP:20180311T233014Z
DTSTART:20180320T130000Z
DTEND:20180320T200000Z
SUMMARY:Professional Development Seminar for SENCO/RTLB/RTLit  
END:VEVENT
END:VCALENDAR
