BEGIN:VCALENDAR
VERSION:2.0
PRODID:-//Squarespace Inc/Squarespace 6//v6//EN
BEGIN:VEVENT
UID:5aa70e4d24a69449dc2961ed@squarespace.com
DTSTAMP:20180312T234514Z
DTSTART:20180320T130000Z
DTEND:20180320T163000Z
SUMMARY:Eastbay REAP Presents Phonological Awareness/Spelling Seminar A Mul
 ti Sensory Approach 
END:VEVENT
END:VCALENDAR
