BEGIN:VCALENDAR
VERSION:2.0
PRODID:-//Squarespace Inc/Squarespace 6//v6//EN
BEGIN:VEVENT
UID:5aa977a724a694129c19a35a@squarespace.com
DTSTAMP:20180314T193322Z
DTSTART:20180315T130000Z
DTEND:20180315T183000Z
SUMMARY:Eastbay REAP Presents Kiri Ora Healthy Skin Workshops
END:VEVENT
END:VCALENDAR
