BEGIN:VCALENDAR
VERSION:2.0
PRODID:-//Squarespace Inc/Squarespace 6//v6//EN
BEGIN:VEVENT
UID:5a9cacabec212db87d65648a@squarespace.com
DTSTAMP:20180305T024000Z
DTSTART:20180312T130000Z
DTEND:20180727T190000Z
SUMMARY:Opotiki Courses Te Reo Ataarangi\, Beginners Te Reo\, Learners Lice
 nse\, Restricted License 
END:VEVENT
END:VCALENDAR
