BEGIN:VCALENDAR
VERSION:2.0
PRODID:-//Squarespace Inc/Squarespace 6//v6//EN
BEGIN:VEVENT
UID:5a82455d4192020a2d75cb7b@squarespace.com
DTSTAMP:20180213T021147Z
DTSTART:20180312T134500Z
DTEND:20180409T043000Z
SUMMARY:Bring back the Village Workshop Series 
END:VEVENT
END:VCALENDAR
