BEGIN:VCALENDAR
VERSION:2.0
PRODID:-//Squarespace Inc/Squarespace 6//v6//EN
BEGIN:VEVENT
UID:5a94ae240d9297f1f9009685@squarespace.com
DTSTAMP:20180227T010935Z
DTSTART:20180227T133000Z
DTEND:20180331T210000Z
SUMMARY:Eastbay REAP announces A classroom set of Taketakerau Books The Mil
 ennium Tree 
END:VEVENT
END:VCALENDAR
