BEGIN:VCALENDAR
VERSION:2.0
PRODID:-//Squarespace Inc/Squarespace 6//v6//EN
BEGIN:VEVENT
UID:5a8b55a053450a65526e6021@squarespace.com
DTSTAMP:20180220T005010Z
DTSTART:20180219T140000Z
DTEND:20181221T180000Z
SUMMARY:Whakatane Community Play Group 
END:VEVENT
END:VCALENDAR
