BEGIN:VCALENDAR
VERSION:2.0
PRODID:-//Squarespace Inc/Squarespace 6//v6//EN
BEGIN:VEVENT
UID:5a8b29fb71c10b5845338cf9@squarespace.com
DTSTAMP:20180219T195615Z
DTSTART:20180219T140000Z
DTEND:20180329T140000Z
SUMMARY:Projects of interest Eastbay REAP
END:VEVENT
END:VCALENDAR
