BEGIN:VCALENDAR
VERSION:2.0
PRODID:-//Squarespace Inc/Squarespace 6//v6//EN
BEGIN:VEVENT
UID:5a80d5150852294ef6094149@squarespace.com
DTSTAMP:20180211T235802Z
DTSTART:20180219T230000Z
DTEND:20180413T210000Z
SUMMARY:Exciting news Sign Language courses for Term one 2018.
END:VEVENT
END:VCALENDAR
