BEGIN:VCALENDAR
VERSION:2.0
PRODID:-//Squarespace Inc/Squarespace 6//v6//EN
BEGIN:VEVENT
UID:5bd663a5f9619a35268f1c50@squarespace.com
DTSTAMP:20181029T023915Z
DTSTART:20181113T014500Z
DTEND:20181113T203000Z
SUMMARY:Joseph Driessen - Attachment Principles to Improve Relationships an
 d Challenging Behaviour
GEO:-37.954505;176.993064
LOCATION:Eastbay REAP\, 21 Pyne Street\, Whakatane\, Bay Of Plenty\, 3120\, 
 New Zealand
END:VEVENT
END:VCALENDAR
